View In:
  ArcGIS JavaScript
  ArcGIS Online Map Viewer
  ArcGIS Earth
  ArcMap
  ArcGIS Pro
View Footprint In:
  ArcGIS Online Map Viewer
Service Description:  
Map Name:  Code Enforcement Map
Legend
All Layers and Tables
Layers: 
Description:  
Service Item Id:  8eae6687655d4482b4d9fab6edd2f406
Copyright Text:   
Spatial Reference: 
102100
 (3857)
Single Fused Map Cache:  true
Tile Info: 
- Height: 256
 
- Width: 256
 
- DPI: 96
 
- 
Levels of Detail:  24
- 
Level ID: 1
[ Start Tile, End Tile ]
 
- Resolution: 78271.5169639999
 
- Scale: 2.95828763795777E8
 
- 
Level ID: 2
[ Start Tile, End Tile ]
 
- Resolution: 39135.7584820001
 
- Scale: 1.47914381897889E8
 
- 
Level ID: 3
[ Start Tile, End Tile ]
 
- Resolution: 19567.8792409999
 
- Scale: 7.3957190948944E7
 
- 
Level ID: 4
[ Start Tile, End Tile ]
 
- Resolution: 9783.93962049996
 
- Scale: 3.6978595474472E7
 
- 
Level ID: 5
[ Start Tile, End Tile ]
 
- Resolution: 4891.96981024998
 
- Scale: 1.8489297737236E7
- Format: Mixed
 
- Compression Quality: 75.0
 
- Origin: X:  -2.0037508342787E7
Y:  2.0037508342787E7
 
- Spatial Reference: 102100
 (3857)
 
Storage Info: 
- Storage Format: esriMapCacheStorageModeCompactV2
 
- Packet Size: 128
 
Initial Extent: 
XMin: -1.138564447829556E7
YMin: 3752498.767639457
XMax: -1.1348388742320567E7
YMax: 3778141.5109347966
Spatial Reference: 102100
Full Extent: 
XMin: -1.138190962152976E7
YMin: 3753443.8985697366
XMax: -1.1352376526113978E7
YMax: 3776672.5891574463
Spatial Reference: 102100
Units:  esriMeters
Supported Image Format Types:  PNG32,PNG24,PNG,JPG,DIB,TIFF,EMF,PS,PDF,GIF,SVG,SVGZ,BMP
Document Info: 
Title: Code Enforcement Map
Author: 
Comments: 
Subject: 
Category: 
Keywords: 
AntialiasingMode: None
TextAntialiasingMode: Force
Supports Dynamic Layers:  false
MaxRecordCount:  1000
MaxImageHeight:  4096
MaxImageWidth:  4096
Supported Query Formats:  JSON, geoJSON, PBF
Supports Query Data Elements:  true
Min Scale:  288895.277144
Max Scale:  9027.977411
Min LOD:  11
Max LOD:  16
Supports Datum Transformation:  true
Child Resources:
  
Info
 
Supported Operations:
  
QueryLegends
  Return Updates